BEGIN:VCALENDAR
VERSION:2.0
PRODID:-//Plone.org//NONSGML plone.app.event//EN
X-WR-TIMEZONE:Europe/Rome
BEGIN:VEVENT
SUMMARY:22 aprile - OPEN DAY della Piastra endoscopica dell’Ospedale Mag
 giore di Bologna
DTSTART;VALUE=DATE-TIME:20170422T080000Z
DTEND;VALUE=DATE-TIME:20170422T090000Z
DTSTAMP;VALUE=DATE-TIME:20260420T092524Z
UID:620076425672f3a2b8c65cb7cd3bba90@127.0.0.1:8095
CATEGORIES:Open Day
CREATED;VALUE=DATE-TIME:20170412T150535Z
DESCRIPTION:Dai tumori biliopancreatici alle emorragie digestive\, con le 
 tecniche di una squadra di basket - Endoscopia interventistica & Sportmode
 lling
LAST-MODIFIED;VALUE=DATE-TIME:20171128T105410Z
LOCATION:Aula Magna\, atrio Ospedale Maggiore - Bologna 
URL:https://www.ausl.bologna.it/eventi/archivio/auslevent.2017-04-12.50822
 03916
END:VEVENT
END:VCALENDAR
