BEGIN:VCALENDAR
VERSION:2.0
PRODID:-//Plone.org//NONSGML plone.app.event//EN
X-WR-TIMEZONE:Europe/Rome
BEGIN:VEVENT
SUMMARY:Le teorie quantistiche lo sviluppo della consapevolezza e il risve
 glio della coscienza
DTSTART;VALUE=DATE-TIME:20170420T123000Z
DTEND;VALUE=DATE-TIME:20170420T154500Z
DTSTAMP;VALUE=DATE-TIME:20260420T092441Z
UID:e14aa5c1600695eef5766d6a06507406@127.0.0.1:8095
CATEGORIES:Conferenza gratuita
CONTACT:aqe.associazione@gmail.com
CREATED;VALUE=DATE-TIME:20170412T120208Z
DESCRIPTION:Conferenza  \n\n
LAST-MODIFIED;VALUE=DATE-TIME:20171128T105353Z
LOCATION:Hotel Relais Bellaria - Bologna 
URL:https://www.ausl.bologna.it/eventi/archivio/auslevent.2017-04-12.14140
 34891
END:VEVENT
END:VCALENDAR
