BEGIN:VCALENDAR
VERSION:2.0
PRODID:-//Plone.org//NONSGML plone.app.event//EN
X-WR-TIMEZONE:Europe/Rome
BEGIN:VEVENT
SUMMARY:22 aprile - OPEN DAY dell'area monumentale Roncati e del Polo mult
 ifunzionale per le disabilità “Corte Roncati”
DTSTART;VALUE=DATE-TIME:20170422T080000Z
DTEND;VALUE=DATE-TIME:20170422T090000Z
DTSTAMP;VALUE=DATE-TIME:20260420T093349Z
UID:b76f41f616a626955f2533bace470cb9@127.0.0.1:8095
CATEGORIES:Open Day
CREATED;VALUE=DATE-TIME:20170412T140111Z
DESCRIPTION:Tra ausili tecnologici\, case domotiche e un giardino accessib
 ile\, nell’ex manicomio di Bologna
LAST-MODIFIED;VALUE=DATE-TIME:20171128T105405Z
LOCATION:Area monumentale "Roncati"\, Viale Pepoli\, 3/5 - Bologna 
URL:https://www.ausl.bologna.it/eventi/archivio/auslevent.2017-04-12.12336
 61494
END:VEVENT
END:VCALENDAR
