BEGIN:VCALENDAR
VERSION:2.0
PRODID:-//Plone.org//NONSGML plone.app.event//EN
X-WR-TIMEZONE:Europe/Rome
BEGIN:VEVENT
SUMMARY:22 aprile - OPEN DAY dell'Oculistica dell’Ospedale Maggiore di B
 ologna
DTSTART;VALUE=DATE-TIME:20170422T080000Z
DTEND;VALUE=DATE-TIME:20170422T110000Z
DTSTAMP;VALUE=DATE-TIME:20260420T093259Z
UID:188969b0faa479116de3a034f5e5fee3@127.0.0.1:8095
CATEGORIES:Open Day
CREATED;VALUE=DATE-TIME:20170412T141017Z
DESCRIPTION:La lunga vita dell’apparato visivo e del suo mondo
LAST-MODIFIED;VALUE=DATE-TIME:20171128T105406Z
LOCATION:Oculistica dell’Ospedale Maggiore - Bologna 
URL:https://www.ausl.bologna.it/eventi/archivio/auslevent.2017-04-12.00013
 42390
END:VEVENT
END:VCALENDAR
