BEGIN:VCALENDAR
VERSION:2.0
PRODID:-//Plone.org//NONSGML plone.app.event//EN
X-WR-TIMEZONE:Europe/Rome
BEGIN:VEVENT
SUMMARY:Ti racconto la donazione
DTSTART;VALUE=DATE-TIME:20170406T183000Z
DTEND;VALUE=DATE-TIME:20170406T210000Z
DTSTAMP;VALUE=DATE-TIME:20260420T092045Z
UID:dff0040da4b45dbb3a4c0090ea5472a5@127.0.0.1:8095
ATTENDEE;CN="Massimo Paderni, Assessore alla Sanità di Molinella - Vanda 
 Randi, Direttore (ff) Servizio di Immunoematologia e Medicina Trasfusional
 e di Area Metropolitana di Bologna e del Centro Regionale Sangue della Reg
 ione Emilia-Romagna";ROLE=REQ-PARTICIPANT:Massimo Paderni, Assessore alla 
 Sanità di Molinella - Vanda Randi, Direttore (ff) Servizio di Immunoemato
 logia e Medicina Trasfusionale di Area Metropolitana di Bologna e del Cent
 ro Regionale Sangue della Regione Emilia-Romagna
CREATED;VALUE=DATE-TIME:20170404T145445Z
DESCRIPTION:Incontro aperto alla cittadinanza
LAST-MODIFIED;VALUE=DATE-TIME:20170512T112827Z
LOCATION:Sala Consiliare\, Comune di Molinella
URL:https://www.ausl.bologna.it/eventi/archivio/auslevent.2017-04-04.46631
 33882
END:VEVENT
END:VCALENDAR
