BEGIN:VCALENDAR
VERSION:2.0
PRODID:-//Plone.org//NONSGML plone.app.event//EN
X-WR-TIMEZONE:Europe/Rome
BEGIN:VEVENT
SUMMARY:Aggiornamenti sull’export degli alimenti di origine animale
DTSTART;VALUE=DATE-TIME:20170411T063000Z
DTEND;VALUE=DATE-TIME:20170411T113000Z
DTSTAMP;VALUE=DATE-TIME:20260420T093258Z
UID:4a8dd84eff94543ac793eccdcbaa6a2a@127.0.0.1:8095
ATTENDEE;CN="L’iniziativa è rivolta ai Veterinari e ai Tecnici della Pr
 evenzione";ROLE=REQ-PARTICIPANT:L’iniziativa è rivolta ai Veterinari e 
 ai Tecnici della Prevenzione
CONTACT:Daniela Guidetti  Rosa Domina\, rosa.domina@ausl.bologna.it
CREATED;VALUE=DATE-TIME:20170403T094903Z
LAST-MODIFIED;VALUE=DATE-TIME:20170512T112818Z
LOCATION:Casalecchio di Reno - Aula B
URL:https://www.ausl.bologna.it/eventi/archivio/auslevent.2017-04-03.47834
 77338
END:VEVENT
END:VCALENDAR
