BEGIN:VCALENDAR
VERSION:2.0
PRODID:-//Plone.org//NONSGML plone.app.event//EN
X-WR-TIMEZONE:Europe/Rome
BEGIN:VEVENT
SUMMARY:Promuovere la cultura e la metodologia dell’Auto Mutuo Aiuto per
  facilitare l’avvio di gruppi
DTSTART;VALUE=DATE-TIME:20170516T063000Z
DTEND;VALUE=DATE-TIME:20170516T150000Z
DTSTAMP;VALUE=DATE-TIME:20260420T093436Z
UID:a166353569ceb81bcf59fa7e2b35841e@127.0.0.1:8095
ATTENDEE;CN="Cittadini, membri di associazioni e/o di enti di volontariato
 ";ROLE=REQ-PARTICIPANT:Cittadini, membri di associazioni e/o di enti di vo
 lontariato
ATTENDEE;CN="operatori AUSL";ROLE=REQ-PARTICIPANT:operatori AUSL
ATTENDEE;CN="operatori Enti Locali";ROLE=REQ-PARTICIPANT:operatori Enti Lo
 cali
ATTENDEE;CN="amministratori locali.";ROLE=REQ-PARTICIPANT:amministratori l
 ocali.
CATEGORIES:Corso di formazione
CONTACT:Coordinamento A.M.A.\, gruppi.ama@ausl.bologna.it
CREATED;VALUE=DATE-TIME:20170324T131748Z
DESCRIPTION:Iniziativa formativa accreditata rivolta a operatori e cittadi
 ni
LAST-MODIFIED;VALUE=DATE-TIME:20170512T112812Z
LOCATION:Area Educazione e Formazione Comune di Bologna\, Aule 1-2\, Via C
 a' Selvatica 7\, Bologna
URL:https://www.ausl.bologna.it/eventi/archivio/auslevent.2017-03-24.89848
 94138
END:VEVENT
END:VCALENDAR
