BEGIN:VCALENDAR
VERSION:2.0
PRODID:-//Plone.org//NONSGML plone.app.event//EN
X-WR-TIMEZONE:Europe/Rome
BEGIN:VEVENT
SUMMARY:Corso Walking leader
DTSTART;VALUE=DATE-TIME:20170429T113000Z
DTEND;VALUE=DATE-TIME:20170429T180000Z
DTSTAMP;VALUE=DATE-TIME:20260420T092441Z
UID:d7edc9166e4b5532eb49e75c255972ff@127.0.0.1:8095
CONTACT:Muriel Musti\, murielassunta.musti@ausl.bologna.it
CREATED;VALUE=DATE-TIME:20170317T114606Z
DESCRIPTION:Nell’azienda USL di Bologna sono diversi i gruppi di cammino
  attivi e permanenti tutto l’anno. Affinchè l’attività sia condotta 
 in assoluta sicurezza e perduri nel tempo è fondamentale che ogni gruppo 
 di cammino abbia un suo riferimento (walking leader).\nL'obiettivo del cor
 so è quello di formare operatori con competenze e conoscenze adeguate nel
 la conduzione di un gruppo di cammino
LAST-MODIFIED;VALUE=DATE-TIME:20170512T110812Z
LOCATION:Sala Polivalente Centro Bacchelli\, Casteldebole (Bo)
URL:https://www.ausl.bologna.it/eventi/archivio/auslevent.2017-03-17.92316
 03152
END:VEVENT
END:VCALENDAR
