BEGIN:VCALENDAR
VERSION:2.0
PRODID:-//Plone.org//NONSGML plone.app.event//EN
X-WR-TIMEZONE:Europe/Rome
BEGIN:VEVENT
SUMMARY:Gestione ospedaliera e continuità assistenziale per il paziente a
 ffetto da diabete mellito
DTSTART;VALUE=DATE-TIME:20170510T060000Z
DTEND;VALUE=DATE-TIME:20170510T153000Z
DTSTAMP;VALUE=DATE-TIME:20260420T093436Z
UID:37c5b042a365f6eb3dfb6371e84e9d5c@127.0.0.1:8095
CATEGORIES:corso
CONTACT:051 809194 ‐ 809252
CREATED;VALUE=DATE-TIME:20170315T160103Z
DESCRIPTION:Dipartimento Medigo - V Corso
LAST-MODIFIED;VALUE=DATE-TIME:20170512T110808Z
LOCATION:Ospedale di Budrio - Budrio BO
URL:https://www.ausl.bologna.it/eventi/archivio/auslevent.2017-03-15.55123
 91498
END:VEVENT
END:VCALENDAR
