BEGIN:VCALENDAR
VERSION:2.0
PRODID:-//Plone.org//NONSGML plone.app.event//EN
X-WR-TIMEZONE:Europe/Rome
BEGIN:VEVENT
SUMMARY:Muoviti\, cammina e corri al San Camillo
DTSTART;VALUE=DATE-TIME:20170319T080000Z
DTEND;VALUE=DATE-TIME:20170319T110000Z
DTSTAMP;VALUE=DATE-TIME:20260420T093436Z
UID:603aaf4faa1c9f462cb7854ce4c5f92c@127.0.0.1:8095
ATTENDEE;CN="Iscrizione 2 euro";ROLE=REQ-PARTICIPANT:Iscrizione 2 euro
CATEGORIES:Camminata
CONTACT:335/8368943
CREATED;VALUE=DATE-TIME:20170315T141908Z
DESCRIPTION:Camminata Ludico Motoria di 12-7-4 Km
LAST-MODIFIED;VALUE=DATE-TIME:20170512T110806Z
LOCATION:Via del Seminario\, 1 - La Mura San Carlo\, San Lazzaro di Savena
  BO
URL:https://www.ausl.bologna.it/eventi/archivio/auslevent.2017-03-15.02611
 25454
END:VEVENT
END:VCALENDAR
