BEGIN:VCALENDAR
VERSION:2.0
PRODID:-//Plone.org//NONSGML plone.app.event//EN
X-WR-TIMEZONE:Europe/Rome
BEGIN:VEVENT
SUMMARY:L’esposizione ad amianto nel comparto rotabili ferroviari: studi
  recenti e possibili ricadute
DTSTART;VALUE=DATE-TIME:20170330T063000Z
DTEND;VALUE=DATE-TIME:20170330T143000Z
DTSTAMP;VALUE=DATE-TIME:20260420T092405Z
UID:2ea80fafec793a3858d06a006bb17a07@127.0.0.1:8095
ATTENDEE;CN="Assistente sanitario";ROLE=REQ-PARTICIPANT:Assistente sanitar
 io
ATTENDEE;CN=Medico;ROLE=REQ-PARTICIPANT:Medico
ATTENDEE;CN=Chimico;ROLE=REQ-PARTICIPANT:Chimico
ATTENDEE;CN=Fisico;ROLE=REQ-PARTICIPANT:Fisico
ATTENDEE;CN="Tecnico della Prevenzione";ROLE=REQ-PARTICIPANT:Tecnico della
  Prevenzione
ATTENDEE;CN="Altre categorie non ECM";ROLE=REQ-PARTICIPANT:Altre categorie
  non ECM
CONTACT:Guidetti Daniela/Rosa Domina\, daniela.guidetti@ausl.bologna.it
CREATED;VALUE=DATE-TIME:20170313T073134Z
LAST-MODIFIED;VALUE=DATE-TIME:20170512T110804Z
URL:https://www.ausl.bologna.it/eventi/archivio/auslevent.2017-03-13.07618
 69876
END:VEVENT
END:VCALENDAR
