BEGIN:VCALENDAR
VERSION:2.0
PRODID:-//Plone.org//NONSGML plone.app.event//EN
X-WR-TIMEZONE:Europe/Rome
BEGIN:VEVENT
SUMMARY:Inaugurazione DH pediatrico ISNB
DTSTART;VALUE=DATE-TIME:20170310T100000Z
DTEND;VALUE=DATE-TIME:20170310T130000Z
DTSTAMP;VALUE=DATE-TIME:20260420T093348Z
UID:20040a70ec9e30f210c0e35bd545f9dd@127.0.0.1:8095
CREATED;VALUE=DATE-TIME:20170308T145950Z
DESCRIPTION:Venerdì 10 marzo\, ore 11
LAST-MODIFIED;VALUE=DATE-TIME:20170512T110750Z
LOCATION:Pad. F\, Ospedale Bellaria\, via Altura 3 - Bologna
URL:https://www.ausl.bologna.it/eventi/archivio/auslevent.2017-03-08.98313
 42897
END:VEVENT
END:VCALENDAR
