BEGIN:VCALENDAR
VERSION:2.0
PRODID:-//Plone.org//NONSGML plone.app.event//EN
X-WR-TIMEZONE:Europe/Rome
BEGIN:VEVENT
SUMMARY:Etichettatura degli Alimenti
DTSTART;VALUE=DATE-TIME:20170330T063000Z
DTEND;VALUE=DATE-TIME:20170330T150000Z
DTSTAMP;VALUE=DATE-TIME:20260420T092605Z
UID:82c32759112e7f07ecaa5142a8c77b74@127.0.0.1:8095
ATTENDEE;CN="Gli ECM sono stati chiesti per le seguenti professioni:";ROLE
 =REQ-PARTICIPANT:Gli ECM sono stati chiesti per le seguenti professioni:
ATTENDEE;CN="Assistente sanitario";ROLE=REQ-PARTICIPANT:Assistente sanitar
 io
ATTENDEE;CN=Dietista;ROLE=REQ-PARTICIPANT:Dietista
ATTENDEE;CN=Medico;ROLE=REQ-PARTICIPANT:Medico
ATTENDEE;CN=Biologo;ROLE=REQ-PARTICIPANT:Biologo
ATTENDEE;CN=Chimico;ROLE=REQ-PARTICIPANT:Chimico
ATTENDEE;CN=Veterinario;ROLE=REQ-PARTICIPANT:Veterinario
ATTENDEE;CN="Tecnico della Prevenzione";ROLE=REQ-PARTICIPANT:Tecnico della
  Prevenzione
ATTENDEE;CN="Tecnico di laboratorio";ROLE=REQ-PARTICIPANT:Tecnico di labor
 atorio
CONTACT:Emanuela Di Martino\, emanuela.dimartino@ausl.bologna.it
CREATED;VALUE=DATE-TIME:20170307T144700Z
LAST-MODIFIED;VALUE=DATE-TIME:20170512T110746Z
LOCATION:Aula Magna Regione Emilia-Romagna Viale A. Moro\, 30 Bologna
URL:https://www.ausl.bologna.it/eventi/archivio/auslevent.2017-03-07.56835
 64302
END:VEVENT
END:VCALENDAR
