BEGIN:VCALENDAR
VERSION:2.0
PRODID:-//Plone.org//NONSGML plone.app.event//EN
X-WR-TIMEZONE:Europe/Rome
BEGIN:VEVENT
SUMMARY:Alimenta la tua salute Maggiore InForma 
DTSTART;VALUE=DATE-TIME:20170321T130000Z
DTEND;VALUE=DATE-TIME:20170321T150000Z
DTSTAMP;VALUE=DATE-TIME:20260420T111954Z
UID:d4017ce9cc5e77aed78d24933a33169e@127.0.0.1:8095
ATTENDEE;CN="Tutti gli operatori dell'Ospedale Maggiore";ROLE=REQ-PARTICIP
 ANT:Tutti gli operatori dell'Ospedale Maggiore
CATEGORIES:Salute\, sport\, benessere
CONTACT:Domina Rosa\, rosa.domina@ausl.bologna.it
CREATED;VALUE=DATE-TIME:20170301T102724Z
DESCRIPTION:Meno Sale più salute - Emilia Guberti\; Orti e Balconi aromat
 ici” - Dimitri Zuffa UO Igiene Alimenti e Nutrizione Dipartimento di San
 ità Pubblica.
LAST-MODIFIED;VALUE=DATE-TIME:20170512T110737Z
LOCATION:Aula Magna - Ospedale Maggiore Bologna
URL:https://www.ausl.bologna.it/eventi/archivio/auslevent.2017-03-01.72427
 47255
END:VEVENT
END:VCALENDAR
