BEGIN:VCALENDAR
VERSION:2.0
PRODID:-//Plone.org//NONSGML plone.app.event//EN
X-WR-TIMEZONE:Europe/Rome
BEGIN:VEVENT
SUMMARY:L'ospedale prudente\, prevenire l’autolesionismo durante il rico
 vero
DTSTART;VALUE=DATE-TIME:20170301T080000Z
DTEND;VALUE=DATE-TIME:20170301T130000Z
DTSTAMP;VALUE=DATE-TIME:20260420T112113Z
UID:6d4bf94fc56b24e65ed3239d972ac914@127.0.0.1:8095
CATEGORIES:Seminario
CREATED;VALUE=DATE-TIME:20170222T114209Z
DESCRIPTION:Un seminario aperto a tutti gli operatori sanitari. Mercoledì
  1 marzo 2017\, dalle ore 9 alle ore 13\, nell’Aula Colonne in via S. Is
 aia 94/A a Bologna
LAST-MODIFIED;VALUE=DATE-TIME:20170512T110721Z
LOCATION:Aula delle Colonne
URL:https://www.ausl.bologna.it/eventi/archivio/auslevent.2017-02-22.52587
 98576
END:VEVENT
END:VCALENDAR
