BEGIN:VCALENDAR
VERSION:2.0
PRODID:-//Plone.org//NONSGML plone.app.event//EN
X-WR-TIMEZONE:Europe/Rome
BEGIN:VEVENT
SUMMARY:Formazione\, informazione ed ascolto in Emilia-Romagna - VIII ediz
 ione
DTSTART;VALUE=DATE-TIME:20170318T073000Z
DTEND;VALUE=DATE-TIME:20170318T170000Z
DTSTAMP;VALUE=DATE-TIME:20260422T103500Z
UID:f3bb5044400e2366e2461612451cef81@127.0.0.1:8095
ATTENDEE;CN="Iscrizione online entro il 14 marzo";ROLE=REQ-PARTICIPANT:Isc
 rizione online entro il 14 marzo
CATEGORIES:Convegno
CONTACT:051 5277272/71/80/79\, segrosp@regione.emilia.romagna.it
CREATED;VALUE=DATE-TIME:20170222T154956Z
DESCRIPTION:Giornata mondiale delle malattie rare 2017 - La voce del pazie
 nte
LAST-MODIFIED;VALUE=DATE-TIME:20170512T110726Z
LOCATION:Regione Emilia-Romagna Terza Torre sala 20 maggio 2012 Viale dell
 a Fiera 8\, - Bologna
URL:https://www.ausl.bologna.it/eventi/archivio/auslevent.2017-02-22.24897
 38219
END:VEVENT
END:VCALENDAR
