BEGIN:VCALENDAR
VERSION:2.0
PRODID:-//Plone.org//NONSGML plone.app.event//EN
X-WR-TIMEZONE:Europe/Rome
BEGIN:VEVENT
SUMMARY:Inaugurazione del Centro di Donazione Sangue di Castiglione dei Pe
 poli
DTSTART;VALUE=DATE-TIME:20170225T100000Z
DTEND;VALUE=DATE-TIME:20170225T113000Z
DTSTAMP;VALUE=DATE-TIME:20260420T111809Z
UID:2286e9398fba6f825bad1d41c72dc921@127.0.0.1:8095
CATEGORIES:Inaugurazione
CREATED;VALUE=DATE-TIME:20170221T134735Z
DESCRIPTION:Sabato 25 febbraio 2017\, ore 11
LAST-MODIFIED;VALUE=DATE-TIME:20170512T103330Z
LOCATION:Castiglione dei Pepoli\, Via Pepoli 12
URL:https://www.ausl.bologna.it/eventi/archivio/auslevent.2017-02-21.53733
 79057
END:VEVENT
END:VCALENDAR
