BEGIN:VCALENDAR
VERSION:2.0
PRODID:-//Plone.org//NONSGML plone.app.event//EN
X-WR-TIMEZONE:Europe/Rome
BEGIN:VEVENT
SUMMARY:Conferenza di Consenso
DTSTART;VALUE=DATE-TIME:20170224T073000Z
DTEND;VALUE=DATE-TIME:20170224T170000Z
DTSTAMP;VALUE=DATE-TIME:20260420T111156Z
UID:f7975c961f2e440adfcccee47fbff5bb@127.0.0.1:8095
CATEGORIES:Seminario
CREATED;VALUE=DATE-TIME:20170214T163122Z
DESCRIPTION:Seminario di retraining e verifica della concordanza diagnosti
 ca nell’Istologia dello Screening per il cancro del colon‐retto
LAST-MODIFIED;VALUE=DATE-TIME:20170512T103329Z
LOCATION:Aula Magna dell’Ospedale Maggiore - Largo Nigrisoli\, 2  Bologn
 a
URL:https://www.ausl.bologna.it/eventi/archivio/auslevent.2017-02-14.34657
 73930
END:VEVENT
END:VCALENDAR
