BEGIN:VCALENDAR
VERSION:2.0
PRODID:-//Plone.org//NONSGML plone.app.event//EN
X-WR-TIMEZONE:Europe/Rome
BEGIN:VEVENT
SUMMARY:Convegno Antibiotico-resistenza
DTSTART;VALUE=DATE-TIME:20170428T063000Z
DTEND;VALUE=DATE-TIME:20170428T123000Z
DTSTAMP;VALUE=DATE-TIME:20260420T092441Z
UID:f99e7ed63b5aefcf78bdedcd56d7a0d5@127.0.0.1:8095
ATTENDEE;CN="Veterinari, medici, biologi, tecnici della prevenzione, tecni
 ci sanitari di laboratorio (ECM ), agronomi, studenti";ROLE=REQ-PARTICIPAN
 T:Veterinari, medici, biologi, tecnici della prevenzione, tecnici sanitari
  di laboratorio (ECM ), agronomi, studenti
CONTACT:Olivia Melloni\, rosa.domina@ausl.bologna.it
CREATED;VALUE=DATE-TIME:20170209T105954Z
LAST-MODIFIED;VALUE=DATE-TIME:20170518T110124Z
LOCATION:Dipartimento Scienze Mediche Veterinarie - Ozzano
URL:https://www.ausl.bologna.it/eventi/archivio/auslevent.2017-02-09.80540
 60125
END:VEVENT
END:VCALENDAR
