BEGIN:VCALENDAR
VERSION:2.0
PRODID:-//Plone.org//NONSGML plone.app.event//EN
X-WR-TIMEZONE:Europe/Rome
BEGIN:VEVENT
SUMMARY:Pericoloso chi
DTSTART;VALUE=DATE-TIME:20170217T080000Z
DTEND;VALUE=DATE-TIME:20170217T173000Z
DTSTAMP;VALUE=DATE-TIME:20260420T111104Z
UID:dadeb90a095c3a1add4b582b85404992@127.0.0.1:8095
CATEGORIES:Convegno
CONTACT:psicoradio@gmail.com
CREATED;VALUE=DATE-TIME:20170208T161026Z
DESCRIPTION:Psicoradio festeggia 10 anni di lavoro culturale contro i preg
 iudizi
LAST-MODIFIED;VALUE=DATE-TIME:20170512T103327Z
LOCATION:Salaborsa\, Auditorium Enzo Biagi - Piazza del Nettuno 3\, Bologn
 a
URL:https://www.ausl.bologna.it/eventi/archivio/auslevent.2017-02-08.80259
 45704
END:VEVENT
END:VCALENDAR
