BEGIN:VCALENDAR
VERSION:2.0
PRODID:-//Plone.org//NONSGML plone.app.event//EN
X-WR-TIMEZONE:Europe/Rome
BEGIN:VEVENT
SUMMARY:Fate il Nostro Gioco 
DTSTART;VALUE=DATE-TIME:20170214T080000Z
DTEND;VALUE=DATE-TIME:20170214T123000Z
DTSTAMP;VALUE=DATE-TIME:20260420T112128Z
UID:f6a167efc673bafa0a4d48ecb06e4d78@127.0.0.1:8095
CATEGORIES:Conferenza spettacolo
CREATED;VALUE=DATE-TIME:20170208T140910Z
DESCRIPTION:Campagna di informazione sulla matematica del gioco d'azzardo 
 di Paolo Canova e Diego Rizzuto 
LAST-MODIFIED;VALUE=DATE-TIME:20170512T103327Z
LOCATION:Teatro Comunale Laura Betti - Piazza del Popolo\, 1\, Casalecchio
  di Reno (BO)
URL:https://www.ausl.bologna.it/eventi/archivio/auslevent.2017-02-08.18298
 34899
END:VEVENT
END:VCALENDAR
