BEGIN:VCALENDAR
VERSION:2.0
PRODID:-//Plone.org//NONSGML plone.app.event//EN
X-WR-TIMEZONE:Europe/Rome
BEGIN:VEVENT
SUMMARY:Le cardiologie dell’Azienda USL  di Bologna - Insieme ai cittadi
 ni
DTSTART;VALUE=DATE-TIME:20170211T090000Z
DTEND;VALUE=DATE-TIME:20170211T170000Z
DTSTAMP;VALUE=DATE-TIME:20260420T111156Z
UID:529d78ac0f6a568942506e298efdd763@127.0.0.1:8095
CATEGORIES:Evento sportivo e di prevenzione
CREATED;VALUE=DATE-TIME:20170207T150854Z
DESCRIPTION:Medici e Infermieri delle Cardiologie \nIstruttori BLS ANMCO-A
 HA dimostreranno come valutare il proprio rischio \ncardiovascolare\, come
  prevenire l’infarto con un corretto stile di vita\, come affrontare l
 ’arresto cardiaco con un addestramento pratico
LAST-MODIFIED;VALUE=DATE-TIME:20170512T103326Z
LOCATION:Complesso Monumentale di Santa Maria della Vita\, via Clavature 8
 \, Bologna
URL:https://www.ausl.bologna.it/eventi/archivio/auslevent.2017-02-07.86884
 63661
END:VEVENT
END:VCALENDAR
