BEGIN:VCALENDAR
VERSION:2.0
PRODID:-//Plone.org//NONSGML plone.app.event//EN
X-WR-TIMEZONE:Europe/Rome
BEGIN:VEVENT
SUMMARY:Gli adolescenti nel cinema - Ciclo di film e conferenze
DTSTART;VALUE=DATE-TIME:20170228T191500Z
DTEND;VALUE=DATE-TIME:20170228T213000Z
DTSTAMP;VALUE=DATE-TIME:20260420T080042Z
UID:9751b19a93f3b786fb57036d6fd04c66@127.0.0.1:8095
CATEGORIES:Film
CREATED;VALUE=DATE-TIME:20170206T153917Z
DESCRIPTION:"Un bacio" - Regia di Ivan Cotroneo - 2016
LAST-MODIFIED;VALUE=DATE-TIME:20170512T103326Z
LOCATION:Cinema Antoniano\, Via G. Guinizelli - Bologna 
URL:https://www.ausl.bologna.it/eventi/archivio/auslevent.2017-02-06.36247
 96372
END:VEVENT
END:VCALENDAR
