BEGIN:VCALENDAR
VERSION:2.0
PRODID:-//Plone.org//NONSGML plone.app.event//EN
X-WR-TIMEZONE:Europe/Rome
BEGIN:VEVENT
SUMMARY:Gli adolescenti nel cinema - Ciclo di film e conferenze 
DTSTART;VALUE=DATE-TIME:20170221T191500Z
DTEND;VALUE=DATE-TIME:20170221T213000Z
DTSTAMP;VALUE=DATE-TIME:20260420T080129Z
UID:7f6084339a2c1a286091968caca8b910@127.0.0.1:8095
ATTENDEE;CN="Ingresso libero";ROLE=REQ-PARTICIPANT:Ingresso libero
CATEGORIES:Film
CREATED;VALUE=DATE-TIME:20170206T151745Z
DESCRIPTION:"In un mondo migliore" - Regia di Susanne Bier - 2010
LAST-MODIFIED;VALUE=DATE-TIME:20170512T103325Z
LOCATION:Cinema Antoniano via G. Guinizelli - Bologna 
URL:https://www.ausl.bologna.it/eventi/archivio/auslevent.2017-02-06.01889
 48179
END:VEVENT
END:VCALENDAR
