BEGIN:VCALENDAR
VERSION:2.0
PRODID:-//Plone.org//NONSGML plone.app.event//EN
X-WR-TIMEZONE:Europe/Rome
BEGIN:VEVENT
SUMMARY:Quanticamente
DTSTART;VALUE=DATE-TIME:20170215T143000Z
DTEND;VALUE=DATE-TIME:20170215T174500Z
DTSTAMP;VALUE=DATE-TIME:20260422T105932Z
UID:29ebc6b90bbc8d20e72f5cf9fdce9315@127.0.0.1:8095
CATEGORIES:Conferenza gratuita
CONTACT:aqe.associazione@gmail.com
CREATED;VALUE=DATE-TIME:20170131T163841Z
DESCRIPTION:Può la Fisica Quantistica tutelare la salute e migliorare la 
 Vita?\n\n
LAST-MODIFIED;VALUE=DATE-TIME:20170512T112827Z
LOCATION:Ospedale Bellaria Aula Magna Padiglione Tinozzi
URL:https://www.ausl.bologna.it/eventi/archivio/auslevent.2017-01-31.52206
 51411
END:VEVENT
END:VCALENDAR
