BEGIN:VCALENDAR
VERSION:2.0
PRODID:-//Plone.org//NONSGML plone.app.event//EN
X-WR-TIMEZONE:Europe/Rome
BEGIN:VEVENT
SUMMARY:Gli adolescenti nel cinema - Ciclo di film e conferenze 
DTSTART;VALUE=DATE-TIME:20170214T191500Z
DTEND;VALUE=DATE-TIME:20170214T211500Z
DTSTAMP;VALUE=DATE-TIME:20260420T080129Z
UID:8cc2539f39bcfde84c3ca390c18d8694@127.0.0.1:8095
ATTENDEE;CN="Ingresso libero";ROLE=REQ-PARTICIPANT:Ingresso libero
CATEGORIES:Film
CREATED;VALUE=DATE-TIME:20170127T151612Z
DESCRIPTION:"Quel fantastico peggiore anno della mia vita" - Regia di Adol
 fo Gomez Rejon - 2015
LAST-MODIFIED;VALUE=DATE-TIME:20170512T112826Z
LOCATION:Cinema Antoninano via G. Guinizelli - Bologna 
URL:https://www.ausl.bologna.it/eventi/archivio/auslevent.2017-01-27.97663
 67946
END:VEVENT
END:VCALENDAR
