BEGIN:VCALENDAR
VERSION:2.0
PRODID:-//Plone.org//NONSGML plone.app.event//EN
X-WR-TIMEZONE:Europe/Rome
BEGIN:VEVENT
SUMMARY:Gli adolescenti nel cinema - Ciclo di film e conferenze 
DTSTART;VALUE=DATE-TIME:20170207T191500Z
DTEND;VALUE=DATE-TIME:20170207T213000Z
DTSTAMP;VALUE=DATE-TIME:20260420T080151Z
UID:233f70d5d46662f47cf2b18acbb8b000@127.0.0.1:8095
ATTENDEE;CN="Ingresso libero";ROLE=REQ-PARTICIPANT:Ingresso libero
CATEGORIES:Film
CREATED;VALUE=DATE-TIME:20170110T122516Z
DESCRIPTION:"I nostri ragazzi" - Regia di Ivano De Matteo - 2014
LAST-MODIFIED;VALUE=DATE-TIME:20170512T103319Z
LOCATION:Cinema Antoniano\, Via G. Guinizelli - Bologna 
URL:https://www.ausl.bologna.it/eventi/archivio/auslevent.2017-01-10.67328
 42601
END:VEVENT
END:VCALENDAR
