BEGIN:VCALENDAR
VERSION:2.0
PRODID:-//Plone.org//NONSGML plone.app.event//EN
X-WR-TIMEZONE:Europe/Rome
BEGIN:VEVENT
SUMMARY:Diffuse Lung Diseases a Multidisciplinary Approach
DTSTART;VALUE=DATE-TIME:20170120T070000Z
DTEND;VALUE=DATE-TIME:20170120T180000Z
DTSTAMP;VALUE=DATE-TIME:20260420T111156Z
UID:eaae0f2e8f979cfb92edc73e2624fb06@127.0.0.1:8095
CATEGORIES:corso
CONTACT:+39 02 89518895\, micom@micom.it
CREATED;VALUE=DATE-TIME:20170110T112313Z
DESCRIPTION:Corso\, e presentazione dell'Atlante "Diffuse Lung Diseases. A
  Multidisciplinary approach"\, a cura di Giorgia Dalpiaz e Alessandra Canc
 ellieri\n
LAST-MODIFIED;VALUE=DATE-TIME:20170202T085716Z
LOCATION:Hotel Relais Bellaria   Via Altura\, 11/bis - Bologna
URL:https://www.ausl.bologna.it/eventi/archivio/auslevent.2017-01-10.59867
 52227
END:VEVENT
END:VCALENDAR
