BEGIN:VCALENDAR
VERSION:2.0
PRODID:-//Plone.org//NONSGML plone.app.event//EN
X-WR-TIMEZONE:Europe/Rome
BEGIN:VEVENT
SUMMARY:L'ufficiale di Polizia Giudiziaria dell'Area PSAL nella fase dibat
 timentale
DTSTART;VALUE=DATE-TIME:20170116T071500Z
DTEND;VALUE=DATE-TIME:20170116T133000Z
DTSTAMP;VALUE=DATE-TIME:20260420T112127Z
UID:36144e9e00e23c39e553e1e954b19957@127.0.0.1:8095
ATTENDEE;CN="Medici, tecnici della prevenzione";ROLE=REQ-PARTICIPANT:Medic
 i, tecnici della prevenzione
CONTACT:Mauro Tubertini\, 051 762842\, mauro.tubertini@ausl.bologna.it
CREATED;VALUE=DATE-TIME:20161223T130631Z
LAST-MODIFIED;VALUE=DATE-TIME:20170202T085714Z
URL:https://www.ausl.bologna.it/eventi/archivio/auslevent.2016-12-23.81289
 60249
END:VEVENT
END:VCALENDAR
