BEGIN:VCALENDAR
VERSION:2.0
PRODID:-//Plone.org//NONSGML plone.app.event//EN
X-WR-TIMEZONE:Europe/Rome
BEGIN:VEVENT
SUMMARY:Igiene delle uova e degli ovoprodotti\, dalla produzione alla comm
 ercializzazione
DTSTART;VALUE=DATE-TIME:20170123T080000Z
DTEND;VALUE=DATE-TIME:20170123T163000Z
DTSTAMP;VALUE=DATE-TIME:20260420T112159Z
UID:787e1602388d6ef037fa7e76da94f57e@127.0.0.1:8095
ATTENDEE;CN="Veterinario,Tecnico della prevenzione";ROLE=REQ-PARTICIPANT:V
 eterinario,Tecnico della prevenzione
CATEGORIES:Corso di aggiornamento
CONTACT:Guidetti Daniela\, daniela.guidetti@ausl.bologna.it
CREATED;VALUE=DATE-TIME:20161219T092739Z
LAST-MODIFIED;VALUE=DATE-TIME:20170512T112823Z
LOCATION:Aula Magna - Pad. Tinozzi Via Altura\, 5 - Ospedale Bellaria Bolo
 gna
URL:https://www.ausl.bologna.it/eventi/archivio/auslevent.2016-12-19.70920
 45707
END:VEVENT
END:VCALENDAR
