BEGIN:VCALENDAR
VERSION:2.0
PRODID:-//Plone.org//NONSGML plone.app.event//EN
X-WR-TIMEZONE:Europe/Rome
BEGIN:VEVENT
SUMMARY:Il nuovo FARO
DTSTART;VALUE=DATE-TIME:20161219T110000Z
DTEND;VALUE=DATE-TIME:20161219T130000Z
DTSTAMP;VALUE=DATE-TIME:20260420T112119Z
UID:25ccd16b881cece93fbce1a4e1b6baf9@127.0.0.1:8095
CATEGORIES:Tavola rotonda
CONTACT:328 9280655
CREATED;VALUE=DATE-TIME:20161215T164438Z
DESCRIPTION:Invito alla Tavola Rotonda “I 10 anni de Il Faro\, il fior f
 iore della salute mentale di Bologna”\n
LAST-MODIFIED;VALUE=DATE-TIME:20170202T085713Z
LOCATION:Biblioteca “Minguzzi - Gentili” c/o Istituzione “Gian Franc
 o Minguzzi”\, via Sant'Isaia\, 90 - Bologna
URL:https://www.ausl.bologna.it/eventi/archivio/auslevent.2016-12-15.01195
 05918
END:VEVENT
END:VCALENDAR
