BEGIN:VCALENDAR
VERSION:2.0
PRODID:-//Plone.org//NONSGML plone.app.event//EN
X-WR-TIMEZONE:Europe/Rome
BEGIN:VEVENT
SUMMARY:European Cholangioscopy Conference
DTSTART;VALUE=DATE-TIME:20161215T091500Z
DTEND;VALUE=DATE-TIME:20161216T113000Z
DTSTAMP;VALUE=DATE-TIME:20260420T062830Z
UID:60f20791e08c5e395d9be26235ca9614@127.0.0.1:8095
CATEGORIES:Evento formativo
CONTACT:051 273168\, ecm@projcom.it
CREATED;VALUE=DATE-TIME:20161213T121852Z
DESCRIPTION:Evento formativo 
LAST-MODIFIED;VALUE=DATE-TIME:20170202T085712Z
LOCATION:Bologna - Aula Magna Ospedale Maggiore
URL:https://www.ausl.bologna.it/eventi/archivio/auslevent.2016-12-13.54576
 97270
END:VEVENT
END:VCALENDAR
