BEGIN:VCALENDAR
VERSION:2.0
PRODID:-//Plone.org//NONSGML plone.app.event//EN
X-WR-TIMEZONE:Europe/Rome
BEGIN:VEVENT
SUMMARY:Cerimonia in ricordo di Alessandro Baldini
DTSTART;VALUE=DATE-TIME:20161217T100000Z
DTEND;VALUE=DATE-TIME:20161217T120000Z
DTSTAMP;VALUE=DATE-TIME:20260420T112120Z
UID:cae5ff847bfbde2b4ec57f556dd25866@127.0.0.1:8095
CATEGORIES:Invito
CREATED;VALUE=DATE-TIME:20161207T152658Z
DESCRIPTION:Invito 
LAST-MODIFIED;VALUE=DATE-TIME:20170202T085711Z
LOCATION:OSPEDALE DI BAZZANO - Viale Dei Martiri\, 10 - Valsamoggia (BO)
URL:https://www.ausl.bologna.it/eventi/archivio/auslevent.2016-12-07.98407
 34581
END:VEVENT
END:VCALENDAR
