BEGIN:VCALENDAR
VERSION:2.0
PRODID:-//Plone.org//NONSGML plone.app.event//EN
X-WR-TIMEZONE:Europe/Rome
BEGIN:VEVENT
SUMMARY:Sinu 2016 - Congresso nazionale
DTSTART;VALUE=DATE-TIME:20161130T161500Z
DTEND;VALUE=DATE-TIME:20161202T161500Z
DTSTAMP;VALUE=DATE-TIME:20260422T103537Z
UID:71a656abac40d8c3a50d83cfa7571c93@127.0.0.1:8095
CATEGORIES:congresso
CREATED;VALUE=DATE-TIME:20161129T163436Z
DESCRIPTION:55° Anniversario Sinu
LAST-MODIFIED;VALUE=DATE-TIME:20170202T085223Z
LOCATION:Bologna - Sala Maggiore Piazza della Costituzione\, 4 - Bologna
URL:https://www.ausl.bologna.it/eventi/archivio/auslevent.2016-11-29.01819
 70028
END:VEVENT
END:VCALENDAR
