BEGIN:VCALENDAR
VERSION:2.0
PRODID:-//Plone.org//NONSGML plone.app.event//EN
X-WR-TIMEZONE:Europe/Rome
BEGIN:VEVENT
SUMMARY:Giornata della  trasparenza
DTSTART;VALUE=DATE-TIME:20161207T090000Z
DTEND;VALUE=DATE-TIME:20161207T123000Z
DTSTAMP;VALUE=DATE-TIME:20260420T112158Z
UID:6ac7daad749be92f98a1cba1ebf0452c@127.0.0.1:8095
CATEGORIES:Giornata
CREATED;VALUE=DATE-TIME:20161128T120757Z
LAST-MODIFIED;VALUE=DATE-TIME:20170202T085220Z
LOCATION:Aula Magna Ospedale Maggiore - Bologna  
URL:https://www.ausl.bologna.it/eventi/archivio/auslevent.2016-11-28.37034
 89432
END:VEVENT
END:VCALENDAR
