BEGIN:VCALENDAR
VERSION:2.0
PRODID:-//Plone.org//NONSGML plone.app.event//EN
X-WR-TIMEZONE:Europe/Rome
BEGIN:VEVENT
SUMMARY:Drugadvisor.Bologna.it
DTSTART;VALUE=DATE-TIME:20161202T160000Z
DTEND;VALUE=DATE-TIME:20161202T190000Z
DTSTAMP;VALUE=DATE-TIME:20260420T075051Z
UID:c161c20903956f07a7b89a741e9d58f7@127.0.0.1:8095
ATTENDEE;CN="Simona Cavallini, Luca Rizzo Nervo, Ivonne Donegani, Daniele 
 Gambini, Alberto Rossetti, Stefano Alemanno, Luca Ghedini, Claudia Iormett
 i";ROLE=REQ-PARTICIPANT:Simona Cavallini, Luca Rizzo Nervo, Ivonne Donegan
 i, Daniele Gambini, Alberto Rossetti, Stefano Alemanno, Luca Ghedini, Clau
 dia Iormetti
CATEGORIES:Presentazione
CONTACT:info@drugadvisor.bologna.it
CREATED;VALUE=DATE-TIME:20161128T095141Z
DESCRIPTION:Quando gli adulti incontrano i giovani
LAST-MODIFIED;VALUE=DATE-TIME:20170202T085219Z
LOCATION:Sala Tassinari - Palazzo D'Accursio\, Piazza Maggiore 6\, Bologna
URL:https://www.ausl.bologna.it/eventi/archivio/auslevent.2016-11-28.25323
 90495
END:VEVENT
END:VCALENDAR
