BEGIN:VCALENDAR
VERSION:2.0
PRODID:-//Plone.org//NONSGML plone.app.event//EN
X-WR-TIMEZONE:Europe/Rome
BEGIN:VEVENT
SUMMARY:Pulizia e disinfezione delle superfici ambientali nelle strutture 
 sanitarie 
DTSTART;VALUE=DATE-TIME:20161128T113000Z
DTEND;VALUE=DATE-TIME:20161128T180000Z
DTSTAMP;VALUE=DATE-TIME:20260422T103537Z
UID:512c946a2ddf068ad267b91650604068@127.0.0.1:8095
ATTENDEE;CN="Per i dipendenti dell'Azienda USL di Bologna la partecipazion
 e al Congresso è gratuita.";ROLE=REQ-PARTICIPANT:Per i dipendenti dell'Az
 ienda USL di Bologna la partecipazione al Congresso è gratuita.
CATEGORIES:Convegno
CONTACT:EV.O. s.r.l.s.\, 051 538765
CREATED;VALUE=DATE-TIME:20161125T092144Z
DESCRIPTION:Ritorno al Futuro \n
LAST-MODIFIED;VALUE=DATE-TIME:20170202T085217Z
LOCATION:Aula Magna Ospedale - Ospedale Maggiore\, Largo Negrisoli\, 1
URL:https://www.ausl.bologna.it/eventi/archivio/auslevent.2016-11-25.36018
 14488
END:VEVENT
END:VCALENDAR
