BEGIN:VCALENDAR
VERSION:2.0
PRODID:-//Plone.org//NONSGML plone.app.event//EN
X-WR-TIMEZONE:Europe/Rome
BEGIN:VEVENT
SUMMARY:SOSTA CONSIGLIATA - Aids rafforziamo le difese
DTSTART;VALUE=DATE-TIME:20161117T230000Z
DTEND;VALUE=DATE-TIME:20161203T230000Z
DTSTAMP;VALUE=DATE-TIME:20260420T112127Z
UID:01668d195779b85abb556881fbe82f47@127.0.0.1:8095
CATEGORIES:Giornata Internazionale
CREATED;VALUE=DATE-TIME:20161124T142249Z
DESCRIPTION:1 DICEMBRE 2016 GIORNATA MONDIALE DELLA LOTTA CONTRO L’AIDS
LAST-MODIFIED;VALUE=DATE-TIME:20170202T085215Z
LOCATION:Bologna 
URL:https://www.ausl.bologna.it/eventi/archivio/auslevent.2016-11-24.99116
 78235
END:VEVENT
END:VCALENDAR
