BEGIN:VCALENDAR
VERSION:2.0
PRODID:-//Plone.org//NONSGML plone.app.event//EN
X-WR-TIMEZONE:Europe/Rome
BEGIN:VEVENT
SUMMARY:Epilessia nell'emergenza\, un approccio multidisciplinare
DTSTART;VALUE=DATE-TIME:20161126T075500Z
DTEND;VALUE=DATE-TIME:20161126T154500Z
DTSTAMP;VALUE=DATE-TIME:20260420T112714Z
UID:fc1e7e7366b715e03a5de3ba1273a334@127.0.0.1:8095
ATTENDEE;CN="Roberto Michelucci, IRCCS ISNB";ROLE=REQ-PARTICIPANT:Roberto 
 Michelucci, IRCCS ISNB
CREATED;VALUE=DATE-TIME:20161124T105725Z
DESCRIPTION:Sabato 26 novembre\, un convegno organizzato dall’ISNB
LAST-MODIFIED;VALUE=DATE-TIME:20170202T085214Z
LOCATION:Relais Bellaria Hotel
URL:https://www.ausl.bologna.it/eventi/archivio/auslevent.2016-11-24.25889
 99757
END:VEVENT
END:VCALENDAR
