BEGIN:VCALENDAR
VERSION:2.0
PRODID:-//Plone.org//NONSGML plone.app.event//EN
X-WR-TIMEZONE:Europe/Rome
BEGIN:VEVENT
SUMMARY:2° Congresso Nazionale Congiunto ANIRCEF – SISC 
DTSTART;VALUE=DATE-TIME:20161124T090000Z
DTEND;VALUE=DATE-TIME:20161126T130000Z
DTSTAMP;VALUE=DATE-TIME:20260420T112121Z
UID:7fc89f6863600175e5d3ce6d1c747808@127.0.0.1:8095
CATEGORIES:congresso
CONTACT:MCC srl\,  051 263703\, segreteria@mccstudio.org
CREATED;VALUE=DATE-TIME:20161123T115205Z
LAST-MODIFIED;VALUE=DATE-TIME:20170202T085159Z
LOCATION:Teatro Arena del Sole - Bologna
URL:https://www.ausl.bologna.it/eventi/archivio/auslevent.2016-11-23.26680
 00538
END:VEVENT
END:VCALENDAR
