BEGIN:VCALENDAR
VERSION:2.0
PRODID:-//Plone.org//NONSGML plone.app.event//EN
X-WR-TIMEZONE:Europe/Rome
BEGIN:VEVENT
SUMMARY:Il Corpo Violato
DTSTART;VALUE=DATE-TIME:20161124T160000Z
DTEND;VALUE=DATE-TIME:20161124T180000Z
DTSTAMP;VALUE=DATE-TIME:20260420T125346Z
UID:4a78c6f0629d3bd33a63ac592bb372df@127.0.0.1:8095
CATEGORIES:Presentazione volume
CREATED;VALUE=DATE-TIME:20161122T155441Z
DESCRIPTION:Presentazione del libro di Maurizio Stupiggia\, in occasione d
 ella giornata nazionale contro la violenza alle donne\n
LAST-MODIFIED;VALUE=DATE-TIME:20170202T085144Z
LOCATION:Casa della Salute San Donato‐San Vitale\, via Beroaldo\, 4 ‐ 
 Bologna
URL:https://www.ausl.bologna.it/eventi/archivio/auslevent.2016-11-22.67085
 53714
END:VEVENT
END:VCALENDAR
