BEGIN:VCALENDAR
VERSION:2.0
PRODID:-//Plone.org//NONSGML plone.app.event//EN
X-WR-TIMEZONE:Europe/Rome
BEGIN:VEVENT
SUMMARY:Il Corpo che soffre 
DTSTART;VALUE=DATE-TIME:20161125T080000Z
DTEND;VALUE=DATE-TIME:20161126T170000Z
DTSTAMP;VALUE=DATE-TIME:20260420T124931Z
UID:91cb3d3a065db8b88debcef6a2a17d25@127.0.0.1:8095
CATEGORIES:Conferenza
CREATED;VALUE=DATE-TIME:20161122T153440Z
DESCRIPTION:Il disagio del Corpo nei disturbi del comportamento alimentare
  
LAST-MODIFIED;VALUE=DATE-TIME:20170202T085142Z
LOCATION:MAST\, Via Speranza\, 42 – Bologna
URL:https://www.ausl.bologna.it/eventi/archivio/auslevent.2016-11-22.64772
 91701
END:VEVENT
END:VCALENDAR
