BEGIN:VCALENDAR
VERSION:2.0
PRODID:-//Plone.org//NONSGML plone.app.event//EN
X-WR-TIMEZONE:Europe/Rome
BEGIN:VEVENT
SUMMARY:Percorso Diagnostico  Terapeutico Assistenziale  Labiopalatoschisi
  e malformazioni del volto: racconto di un anno
DTSTART;VALUE=DATE-TIME:20161126T090000Z
DTEND;VALUE=DATE-TIME:20161126T113000Z
DTSTAMP;VALUE=DATE-TIME:20260420T113432Z
UID:c8296ee72d65667224e068b7e582b9f3@127.0.0.1:8095
CATEGORIES:Incontro
CONTACT:Fondazione Alma Mater\, 051 209 1398\, f.pizzimenti@fondazionealma
 mater.it
CREATED;VALUE=DATE-TIME:20161122T120005Z
LAST-MODIFIED;VALUE=DATE-TIME:20170202T085141Z
LOCATION:Ospedale Bellaria\, Aula Magna Padiglione Tinozzi - Via Altura\, 
 3 Bologna
URL:https://www.ausl.bologna.it/eventi/archivio/auslevent.2016-11-22.55153
 45392
END:VEVENT
END:VCALENDAR
