BEGIN:VCALENDAR
VERSION:2.0
PRODID:-//Plone.org//NONSGML plone.app.event//EN
X-WR-TIMEZONE:Europe/Rome
BEGIN:VEVENT
SUMMARY:«a colpi di... immagini\, parole e musica»
DTSTART;VALUE=DATE-TIME:20161114T160000Z
DTEND;VALUE=DATE-TIME:20161114T180000Z
DTSTAMP;VALUE=DATE-TIME:20260420T113432Z
UID:13b19a1870674d5d3a727b848e221cff@127.0.0.1:8095
CATEGORIES:mostra
CONTACT:Segreteria Circolo Ravone \, 051 6478495
CREATED;VALUE=DATE-TIME:20161118T111246Z
DESCRIPTION:Letture ad alta voce dedicate al tema della violenza\, musica 
 dal vivo\, e presentazione della mostra curata da SOS Donna ...E' VIOLENZA
LAST-MODIFIED;VALUE=DATE-TIME:20170202T085139Z
URL:https://www.ausl.bologna.it/eventi/archivio/auslevent.2016-11-18.13076
 52509
END:VEVENT
END:VCALENDAR
