BEGIN:VCALENDAR
VERSION:2.0
PRODID:-//Plone.org//NONSGML plone.app.event//EN
X-WR-TIMEZONE:Europe/Rome
BEGIN:VEVENT
SUMMARY:La coltivazione in serra.  Prevenzione del rischio da uso di fitos
 anitari
DTSTART;VALUE=DATE-TIME:20161205T080000Z
DTEND;VALUE=DATE-TIME:20161205T153000Z
DTSTAMP;VALUE=DATE-TIME:20260420T111953Z
UID:5d2a52e47a18040f6cb6f43ebd31538f@127.0.0.1:8095
ATTENDEE;CN=Medico;ROLE=REQ-PARTICIPANT:Medico
ATTENDEE;CN=Biologo;ROLE=REQ-PARTICIPANT:Biologo
ATTENDEE;CN=Chimico;ROLE=REQ-PARTICIPANT:Chimico
ATTENDEE;CN="Tecnico della Prevenzione";ROLE=REQ-PARTICIPANT:Tecnico della
  Prevenzione
CATEGORIES:Convegno
CONTACT:Linda Intrieri\, l.intrieri@ausl.bologna.it
CREATED;VALUE=DATE-TIME:20161116T093511Z
LAST-MODIFIED;VALUE=DATE-TIME:20170202T085131Z
LOCATION:Zanhotel Europa\, via Boldrini 11 - Bologna
URL:https://www.ausl.bologna.it/eventi/archivio/auslevent.2016-11-16.59064
 75202
END:VEVENT
END:VCALENDAR
