BEGIN:VCALENDAR
VERSION:2.0
PRODID:-//Plone.org//NONSGML plone.app.event//EN
X-WR-TIMEZONE:Europe/Rome
BEGIN:VEVENT
SUMMARY:Il nuovo mammografo della Casa della Salute di Vergato
DTSTART;VALUE=DATE-TIME:20161119T100000Z
DTEND;VALUE=DATE-TIME:20161119T120000Z
DTSTAMP;VALUE=DATE-TIME:20260420T113210Z
UID:d673a9bee47cca4ecdbaef406d94c84d@127.0.0.1:8095
CATEGORIES:Donazione
CREATED;VALUE=DATE-TIME:20161114T115135Z
DESCRIPTION:Dono della onlus Per la Vita di Vergato 
LAST-MODIFIED;VALUE=DATE-TIME:20170202T084710Z
LOCATION:Vergato - Via dell'Ospedale\, 1
URL:https://www.ausl.bologna.it/eventi/archivio/auslevent.2016-11-14.17814
 95976
END:VEVENT
END:VCALENDAR
