BEGIN:VCALENDAR
VERSION:2.0
PRODID:-//Plone.org//NONSGML plone.app.event//EN
X-WR-TIMEZONE:Europe/Rome
BEGIN:VEVENT
SUMMARY:La relazione con il paziente è uno strumento di cura? 
DTSTART;VALUE=DATE-TIME:20161215T080000Z
DTEND;VALUE=DATE-TIME:20161215T163000Z
DTSTAMP;VALUE=DATE-TIME:20260420T112121Z
UID:e3a3d322d5a1b754b5e7469dfad29608@127.0.0.1:8095
ATTENDEE;CN="È prevista la traduzione simultanea dal francese all'italian
 o";ROLE=REQ-PARTICIPANT:È prevista la traduzione simultanea dal francese 
 all'italiano
CATEGORIES:Convegno
CONTACT:giulia.guerzoni@regione.emilia-romagna.it
CREATED;VALUE=DATE-TIME:20161111T150838Z
DESCRIPTION:Il modello biomedico e le medicine non convenzionali
LAST-MODIFIED;VALUE=DATE-TIME:20170202T084708Z
LOCATION:Aula Magna Regione Emilia-Romagna vle Aldo Moro 30 - piano terra 
 - Bologna 
URL:https://www.ausl.bologna.it/eventi/archivio/auslevent.2016-11-11.80139
 26382
END:VEVENT
END:VCALENDAR
