BEGIN:VCALENDAR
VERSION:2.0
PRODID:-//Plone.org//NONSGML plone.app.event//EN
X-WR-TIMEZONE:Europe/Rome
BEGIN:VEVENT
SUMMARY:Come cambia il trattamento dei Disturbi Emotivi Comuni nell’assi
 stenza primaria
DTSTART;VALUE=DATE-TIME:20161111T080000Z
DTEND;VALUE=DATE-TIME:20161111T170000Z
DTSTAMP;VALUE=DATE-TIME:20260420T125352Z
UID:75aabcb6f62c9b4c6a260a0f78fd47c6@127.0.0.1:8095
CATEGORIES:Seminario
CREATED;VALUE=DATE-TIME:20161108T124731Z
DESCRIPTION:Il Programma Leggieri e il nuovo progetto “Psicologo della C
 asa della Salute“
LAST-MODIFIED;VALUE=DATE-TIME:20170202T084706Z
LOCATION:Aula Magna - Ospedale Maggiore\, Bologna
URL:https://www.ausl.bologna.it/eventi/archivio/auslevent.2016-11-08.85771
 62526
END:VEVENT
END:VCALENDAR
