BEGIN:VCALENDAR
VERSION:2.0
PRODID:-//Plone.org//NONSGML plone.app.event//EN
X-WR-TIMEZONE:Europe/Rome
BEGIN:VEVENT
SUMMARY:La cura del trauma interpersonale. Integrazione di saperi e modell
 i di intervento
DTSTART;VALUE=DATE-TIME:20161125T080000Z
DTEND;VALUE=DATE-TIME:20161125T123000Z
DTSTAMP;VALUE=DATE-TIME:20260420T112110Z
UID:f10cd04e77a753517ef0cd03ba2fe6d1@127.0.0.1:8095
ATTENDEE;CN="L’evento formativo è rivolto a professionisti dei Servizi 
 Sanitari (DSM,";ROLE=REQ-PARTICIPANT:L’evento formativo è rivolto a pro
 fessionisti dei Servizi Sanitari (DSM,
ATTENDEE;CN="DCP), Servizi Sociali ed Educativi";ROLE=REQ-PARTICIPANT:DCP)
 , Servizi Sociali ed Educativi
CATEGORIES:Seminario
CREATED;VALUE=DATE-TIME:20161104T134851Z
DESCRIPTION:Seminario 
LAST-MODIFIED;VALUE=DATE-TIME:20170202T084704Z
LOCATION:Avis\, Casa dei donatori di Sangue\, Via dell’Ospedale\, 20 - B
 ologna
URL:https://www.ausl.bologna.it/eventi/archivio/auslevent.2016-11-04.90358
 91880
END:VEVENT
END:VCALENDAR
