BEGIN:VCALENDAR
VERSION:2.0
PRODID:-//Plone.org//NONSGML plone.app.event//EN
X-WR-TIMEZONE:Europe/Rome
BEGIN:VEVENT
SUMMARY:Giornata di studio: le novità determinate dall'introduzione dell'
 HPV nello screening del tumore della cervice uterina 
DTSTART;VALUE=DATE-TIME:20161107T130000Z
DTEND;VALUE=DATE-TIME:20161107T170000Z
DTSTAMP;VALUE=DATE-TIME:20260420T112811Z
UID:958485cf904e6f63fb7a44501ce5c903@127.0.0.1:8095
CATEGORIES:Giornata di studio
CREATED;VALUE=DATE-TIME:20161103T155712Z
DESCRIPTION:Lunedì 7 e 14 novembre 2016
LAST-MODIFIED;VALUE=DATE-TIME:20170202T084701Z
LOCATION:Aula Magna\, Ospedale Maggiore - Bologna 
URL:https://www.ausl.bologna.it/eventi/archivio/auslevent.2016-11-03.49749
 50310
END:VEVENT
END:VCALENDAR
